BEGIN:VCALENDAR
PRODID:-//Microsoft Corporation//Outlook MIMEDIR//EN
VERSION:2.0
METHOD:PUBLISH
BEGIN:VEVENT
DTSTART:20260421T173000
DTEND:20260421T183000
DESCRIPTION:
LOCATION:1301 Farragut St. Transit Center, 3rd Floor Conference Room
SUMMARY:Para Transit Advisory Committee
CATEGORIES:MEETING
END:VEVENT
END:VCALENDAR
