BEGIN:VCALENDAR
PRODID:-//Microsoft Corporation//Outlook MIMEDIR//EN
VERSION:2.0
METHOD:PUBLISH
BEGIN:VEVENT
DTSTART:20260429T123000
DTEND:20260429T133000
DESCRIPTION:
LOCATION:City of Laredo Public Health Conference Room
SUMMARY:Animal Care Services Advisory Committee
CATEGORIES:MEETING
END:VEVENT
END:VCALENDAR
