BEGIN:VCALENDAR
PRODID:-//Microsoft Corporation//Outlook MIMEDIR//EN
VERSION:2.0
METHOD:PUBLISH
BEGIN:VEVENT
DTSTART:20260429T180000
DTEND:20260429T190000
DESCRIPTION:
LOCATION:Community Development  1301 Farragut St. Laredo, TX 78040
SUMMARY:Civic Partnership and Engagement Advisory Committee
CATEGORIES:MEETING
END:VEVENT
END:VCALENDAR
