BEGIN:VCALENDAR
PRODID:-//Microsoft Corporation//Outlook MIMEDIR//EN
VERSION:2.0
METHOD:PUBLISH
BEGIN:VEVENT
DTSTART:20260429T120000
DTEND:20260429T130000
DESCRIPTION:AMENDED
LOCATION:Community Development  1301 Farragut St. 3rd Floor Laredo, TX 78040
SUMMARY:Civic Partnership and Engagement Advisory Committee
CATEGORIES:MEETING
END:VEVENT
END:VCALENDAR
