BEGIN:VCALENDAR
PRODID:-//Microsoft Corporation//Outlook MIMEDIR//EN
VERSION:2.0
METHOD:PUBLISH
BEGIN:VEVENT
DTSTART:20260429T173000
DTEND:20260429T183000
DESCRIPTION:
LOCATION:City of Laredo Public Health Department Auditorium
SUMMARY:Suicide Prevention Committe
CATEGORIES:MEETING
END:VEVENT
END:VCALENDAR
